BEGIN:VCALENDAR
VERSION:2.0
PRODID:-//wp-events-plugin.com//7.2.3.1//EN
BEGIN:VEVENT
UID:802@powerbrokermagazine.com
DTSTART:20260423T230000Z
DTEND:20260424T010000Z
DTSTAMP:20260422T180914Z
URL:https://powerbrokermagazine.com/events/ai-workshop-for-business-owners
 /
SUMMARY:AI Workshop for Business Owners
DESCRIPTION:Learn how to actually use AI to make money\, save time\, and co
 mpete.\nWhat You’ll Learn\n\n 	How AI can automate parts of your busines
 s\n 	Simple tools you can start using immediately\n 	Real ways to generate
  income with AI\n 	How to stay competitive while others fall behind\n\nTo 
 reserve your spot text text interested to 727-565-7652
ATTACH;FMTTYPE=image/jpeg:https://powerbrokermagazine.com/wp-content/uploa
 ds/2026/04/775E80E9-9F36-4778-96A5-8E986490477A.png
CATEGORIES:Business,Networking
LOCATION:2067 1st Ave N\, 2967 1st Ave N\, St. Petersburg\, FL\, United Sta
 tes
X-APPLE-STRUCTURED-LOCATION;VALUE=URI;X-ADDRESS=2967 1st Ave N\, St. Peters
 burg\, FL\, United States;X-APPLE-RADIUS=100;X-TITLE=2067 1st Ave N:geo:0,
 0
END:VEVENT
END:VCALENDAR