BEGIN:VCALENDAR
VERSION:2.0
PRODID:-//wp-events-plugin.com//7.2.3.1//EN
BEGIN:VEVENT
UID:722@powerbrokermagazine.com
DTSTART:20260425T200000Z
DTEND:20260426T220000Z
DTSTAMP:20260326T171158Z
URL:https://powerbrokermagazine.com/events/a-streetcar-named-desire-4/
SUMMARY:A Streetcar Named Desire
DESCRIPTION:Step into the sweltering\, steamy world of 1960s New Orleans as
  our stage ignites with Tennessee Williams’s Pulitzer Prize-winning mast
 erpiece\, A Streetcar Named Desire.\n\nWhen the fragile and fading Souther
 n belle Blanche DuBois arrives on her sister Stella’s doorstep\, she bri
 ngs with her a past full of secrets and a desperation for a new life. But 
 in the vibrant\, brutal atmosphere of the French Quarter\, her delicate il
 lusions clash head-on with the raw\, animal magnetism of Stella’s husban
 d\, Stanley Kowalski.\n\nA story of desire\, desperation\, and the fragile
  line between fantasy and reality\, this unforgettable production will imm
 erse you in one of the most powerful and captivating dramas ever written f
 or the American stage. Don’t miss this iconic theatrical event.\n\nClick
  Here for more information and to purchase tickets
ATTACH;FMTTYPE=image/jpeg:https://powerbrokermagazine.com/wp-content/uploa
 ds/2026/03/Streetcar-1024x768-1.png
CATEGORIES:Entertainment
LOCATION:the studio @620\, 620 1st Ave S\, St. Petersburg\, FL\, 33701\, Un
 ited States
X-APPLE-STRUCTURED-LOCATION;VALUE=URI;X-ADDRESS=620 1st Ave S\, St. Petersb
 urg\, FL\, 33701\, United States;X-APPLE-RADIUS=100;X-TITLE=the studio @62
 0:geo:0,0
END:VEVENT
END:VCALENDAR