BEGIN:VCALENDAR
VERSION:2.0
PRODID:-//wp-events-plugin.com//7.2.3.1//EN
BEGIN:VEVENT
UID:617@powerbrokermagazine.com
DTSTART:20260615T180000Z
DTEND:20260621T000000Z
DTSTAMP:20260302T153034Z
URL:https://powerbrokermagazine.com/events/6th-annual-juneteenth-festival/
SUMMARY:6th Annual Juneteenth Festival
DESCRIPTION:\nROC THE BLOCK INC. is a community-focused 501(c)(3) organizat
 ion dedicated to reconditioning communities through cultural celebration\,
  historical education\, and active community engagement. By organizing dyn
 amic events and festivals\, such as the Tampa Bay Juneteenth Festival\, we
  honor our shared heritage\, foster unity\, and inspire awareness of our s
 hared history. Our mission is to create inclusive spaces that educate\, en
 tertain\, and uplift\, while also empowering local businesses by providing
  opportunities to showcase their goods and services. Through these events\
 , we attract tourists to local areas\, contributing to the growth of the m
 edia\, transportation\, hospitality\, and tourism sectors\, and ensuring l
 asting economic and cultural impact for the region.\n\n\nClick Here for mo
 re information!
ATTACH;FMTTYPE=image/jpeg:https://powerbrokermagazine.com/wp-content/uploa
 ds/2026/03/unnamed-21.jpg
CATEGORIES:Community
LOCATION:Raymond James Stadium\, test physical address\, Tampa\, FL\, Unite
 d States
X-APPLE-STRUCTURED-LOCATION;VALUE=URI;X-ADDRESS=test physical address\, Tam
 pa\, FL\, United States;X-APPLE-RADIUS=100;X-TITLE=Raymond James Stadium:g
 eo:0,0
END:VEVENT
END:VCALENDAR