BEGIN:VCALENDAR
VERSION:2.0
PRODID:-//wp-events-plugin.com//7.2.3.1//EN
BEGIN:VEVENT
UID:742@powerbrokermagazine.com
DTSTART:20260608T130000Z
DTEND:20260608T200000Z
DTSTAMP:20260401T220339Z
URL:https://powerbrokermagazine.com/events/46565/
SUMMARY:Nonprofit Leadership Conference
DESCRIPTION:Although today’s nonprofits are facing historic challenges\, 
 our purpose is our power.\n\nIt’s the reason we tackle hunger\, poverty\
 , homelessness\, addiction\, mental health\, barriers to education\, and m
 ore. It’s what gives us the courage to innovate\, collaborate\, and neve
 r give up.\n\nReconnecting with your “why” has never been more importa
 nt.\n\nBecause nonprofits are powered by purpose. YOU are powered by purp
 ose.\n\nJoin us for the 2026 Nonprofit Leadership Conference on June 4 
 in downtown Tampa. Hundreds of nonprofit and business leaders will come t
 ogether to recharge their purpose and discover bold new strategies to adva
 nce it.\n\nJoin us to be the change that changes everything.\n\nClick Here
  for more information!
ATTACH;FMTTYPE=image/jpeg:https://powerbrokermagazine.com/wp-content/uploa
 ds/2026/04/Screenshot-2026-04-01-at-5.58.26-PM.png
CATEGORIES:Business,Networking
LOCATION:Hilton Tampa Downtown\, 211 N Tampa St\, Tampa\, Florida\, 33602\,
  United States
X-APPLE-STRUCTURED-LOCATION;VALUE=URI;X-ADDRESS=211 N Tampa St\, Tampa\, Fl
 orida\, 33602\, United States;X-APPLE-RADIUS=100;X-TITLE=Hilton Tampa Down
 town:geo:0,0
END:VEVENT
END:VCALENDAR