BEGIN:VCALENDAR
VERSION:2.0
PRODID:-//wp-events-plugin.com//7.2.3.1//EN
BEGIN:VEVENT
UID:580@powerbrokermagazine.com
DTSTART:20260513T163000Z
DTEND:20260513T183000Z
DTSTAMP:20260218T172011Z
URL:https://powerbrokermagazine.com/events/2026-florida-sbdc-at-usf-annual
 -business-awards-luncheon/
SUMMARY:2026 Florida SBDC at USF Annual Business Awards Luncheon
DESCRIPTION:Keynote Speaker: Jay Rogers\, Jr.\, CEO and Co-Founder of Hadd
 y\n\nCost: $99\n\nCelebrate the outstanding achievements of small busines
 ses within our 10-County Tampa Bay region at the Florida SBDC at USF Annua
 l Business Awards! This signature event honors the entrepreneurial spirit 
 and recognizes the success of our small business clients\, the excellence 
 of our dedicated staff\, and the invaluable contributions of our partners.
 \n\nOur keynote speaker\, John "Jay" B. Rogers\, Jr.\, CEO &amp\; Co-Found
 er of Haddy\, grew up a lover of woodworking\, machines\, and a student of
  industry\; his grandfather owned the legendary Indian Motorcycle Company\
 , founded concrete and steel giant Texas Industries\, and was the first Cu
 mmins Engine Distributor in the United States. Jay's grandfather is also c
 redited with saving the Public Broadcasting System during the Nixon Admini
 stration and co-founding the Children's Television Workshop\, which is bes
 t known for Sesame Street. In embracing his family legacy of manufacturing
  and innovation\, Jay has added his military leadership\, entrepreneurship
 \, and education\, in order to hand-select a team of co-founders and set f
 orth on a most ambitious plan: Creating Haddy - manufacturer of heroic\, b
 eautiful\, durable furniture for retailers\, to their design\, built local
 ly in the most resilient and sustainable manner.\n\nThe U.S. Small Busines
 s Administration (SBA) will also present their prestigious SBA Small Busin
 ess Awards during this event.\n\nEnjoy a day of inspiration\, connection\,
  and celebration:\n\n 	Networking Opportunities: Connect with small busine
 ss owners\, partners\, and colleagues.\n 	Exhibitor Booths: Explore resour
 ces and services from key business partners.\n 	Lunch Included: Share a me
 al with fellow attendees.\n 	Celebration of Excellence: Honor the innovato
 rs and leaders shaping Florida’s economy.\n\nClick Here for more informa
 tion!
ATTACH;FMTTYPE=image/jpeg:https://powerbrokermagazine.com/wp-content/uploa
 ds/2026/02/image-8.png
CATEGORIES:Business,Networking
LOCATION:USF Marshall Center\, 4103 USF Cedar Circle\, Second Floor - 2100 
 AB\, Tampa\,\, FL\, 33620\, United States
X-APPLE-STRUCTURED-LOCATION;VALUE=URI;X-ADDRESS=4103 USF Cedar Circle\, Sec
 ond Floor - 2100 AB\, Tampa\,\, FL\, 33620\, United States;X-APPLE-RADIUS=
 100;X-TITLE=USF Marshall Center:geo:0,0
END:VEVENT
END:VCALENDAR