BEGIN:VCALENDAR
VERSION:2.0
PRODID:-//wp-events-plugin.com//7.2.3.1//EN
BEGIN:VEVENT
UID:734@powerbrokermagazine.com
DTSTART:20260424T000000Z
DTEND:20260424T043000Z
DTSTAMP:20260330T172353Z
URL:https://powerbrokermagazine.com/events/2026-buccaneers-draft-party/
SUMMARY:2026 Buccaneers Draft Party
DESCRIPTION:Join us for the 2026 Buccaneers Draft Party presented by Mille
 r Lite as the Krewe takes over Central Avenue in Downtown St. Petersburg!
  Experience the excitement of the NFL Draft with a massive street festival
  and block party. Be there as we go on the clock at No. 15 and bring the n
 ext Buccaneer to Tampa Bay.\n\nClick Here for more information!
ATTACH;FMTTYPE=image/jpeg:https://powerbrokermagazine.com/wp-content/uploa
 ds/2026/03/Screenshot-2026-03-30-at-1.20.27-PM.png
CATEGORIES:Community,Entertainment
LOCATION:Downtown St. Pete\, Central Ave N\, St. Petersburg\, FL\, 33701\, 
 United States
X-APPLE-STRUCTURED-LOCATION;VALUE=URI;X-ADDRESS=Central Ave N\, St. Petersb
 urg\, FL\, 33701\, United States;X-APPLE-RADIUS=100;X-TITLE=Downtown St. P
 ete:geo:0,0
END:VEVENT
END:VCALENDAR